BEGIN:VCALENDAR
VERSION:2.0
PRODID:-//hacksw/handcal//NONSGML v1.0//EN
BEGIN:VEVENT
SUMMARY:L'ILE DE LOISIRS
UID:4fdb72bb-7fb4-4ca0-a08f-a502d671562b
DTSTART:20260416T073000Z
DTEND:20260416T153000Z
LOCATION:Localisation base de loisirs  cergy
CATEGORIES:Manifestation
STATUS:
DESCRIPTION:<p style="text-align:center;"><strong><span
 style="color:#2980b9;"><span style="font-size:22px;">L'ILE DE
 LOISIR</span></span></strong></p>
 
 <p><strong><span
 style="font-size:12px;">Journee sport et handicap a la base de
 loisirs de Cergy - Pontoise</span></strong></p>
 
 <p><strong><span
 style="font-size:12px;">Pour voir les photos, </span><a
 href="https://photos.app.goo.gl/cHKNBpVa5RnL9Gb69" target="_blank"
 rel="noreferrer noopener"><span style="font-size:14px;"><span
 style="color:#f39c12;">CLIQUEZ ICI</span></span></a></strong></p>
URL;VALUE=URI:https://jakadiroule.sportsregions.fr/evenements/2026/04/16/lile-de-loisirs-2364196
END:VEVENT
END:VCALENDAR
